BEGIN:VCALENDAR
VERSION:2.0
PRODID:-//MGTTO - ECPv6.15.20//NONSGML v1.0//EN
CALSCALE:GREGORIAN
METHOD:PUBLISH
X-WR-CALNAME:MGTTO
X-ORIGINAL-URL:https://www.mgtto.nl
X-WR-CALDESC:Evenementen voor MGTTO
REFRESH-INTERVAL;VALUE=DURATION:PT1H
X-Robots-Tag:noindex
X-PUBLISHED-TTL:PT1H
BEGIN:VTIMEZONE
TZID:Europe/Amsterdam
BEGIN:DAYLIGHT
TZOFFSETFROM:+0100
TZOFFSETTO:+0200
TZNAME:CEST
DTSTART:20250330T010000
END:DAYLIGHT
BEGIN:STANDARD
TZOFFSETFROM:+0200
TZOFFSETTO:+0100
TZNAME:CET
DTSTART:20251026T010000
END:STANDARD
BEGIN:DAYLIGHT
TZOFFSETFROM:+0100
TZOFFSETTO:+0200
TZNAME:CEST
DTSTART:20260329T010000
END:DAYLIGHT
BEGIN:STANDARD
TZOFFSETFROM:+0200
TZOFFSETTO:+0100
TZNAME:CET
DTSTART:20261025T010000
END:STANDARD
BEGIN:DAYLIGHT
TZOFFSETFROM:+0100
TZOFFSETTO:+0200
TZNAME:CEST
DTSTART:20270328T010000
END:DAYLIGHT
BEGIN:STANDARD
TZOFFSETFROM:+0200
TZOFFSETTO:+0100
TZNAME:CET
DTSTART:20271031T010000
END:STANDARD
END:VTIMEZONE
BEGIN:VEVENT
DTSTART;TZID=Europe/Amsterdam:20260424T080000
DTEND;TZID=Europe/Amsterdam:20260426T170000
DTSTAMP:20260424T131550
CREATED:20240102T142219Z
LAST-MODIFIED:20260225T115620Z
UID:29570-1777017600-1777222800@www.mgtto.nl
SUMMARY:Spa Summer Classic
DESCRIPTION:
URL:https://www.mgtto.nl/mg-agenda/spa-summer-classic/
CATEGORIES:Buitenland
ATTACH;FMTTYPE=image/jpeg:https://www.mgtto.nl/wp-content/uploads/Spa-Summer-Classic.jpg
END:VEVENT
END:VCALENDAR